BEGIN:VCALENDAR
VERSION:2.0
PRODID:-//ChamberMaster//Event Calendar 2.0//EN
METHOD:PUBLISH
X-PUBLISHED-TTL:P3D
REFRESH-INTERVAL:P3D
CALSCALE:GREGORIAN
BEGIN:VEVENT
DTSTART:20230908T153000Z
DTEND:20230908T230000Z
X-MICROSOFT-CDO-ALLDAYEVENT:FALSE
SUMMARY:2023 Golf Tournament - SOLD OUT
DESCRIPTION:The Dunedin Chamber of Commerce is hosting its Annual Golf Tournament at Dunedin Golf Course\, Friday September 8th. \n\nRegistration opens at 11:30AM. \n\nShotgun start at 1PM.\n\nWe'll have Hole Sponsors\, Swag\, Raffle Prizes and a chance to WIN A GOLF CART!!!\n\n\n\nGolf Packages\n\nIncludes: Green Fees\, Golf Cart rental and Dinner - Sorry\, NO REFUNDS.\n\nEagle Package - 4 Players\, 4 Super Packs* & Hole Sign - $600\n\nPar Package - 4 Players - $500\n\nIndividual Player WITH Super Pack* - $145\n\nIndividual Player Only - $125\n\nAwards Ticket Only - $40\n\n\n\nSponsorship Opportunities Available - Please reach out to admin@dunedinfl.com for more information. \n\n*Super Pack includes: 1 golf cart raffle entry\, 1 team mulligan\, 1 entry for the putting contest.
X-ALT-DESC;FMTTYPE=text/html:The Dunedin Chamber of Commerce is hosting its Annual Golf Tournament at Dunedin Golf Course\, Friday September 8th.&nbsp\;<br />\nRegistration opens at 11:30AM.&nbsp\;<br />\nShotgun start at 1PM.<br />\nWe&#39\;ll have Hole Sponsors\, Swag\, Raffle Prizes and a chance to WIN A GOLF CART!!!<br />\n<br />\nGolf Packages<br />\nIncludes: Green Fees\, Golf Cart rental and Dinner - Sorry\, NO REFUNDS.<br />\nEagle Package - 4 Players\, 4 Super Packs* &amp\; Hole Sign - $600<br />\nPar Package - 4 Players - $500<br />\nIndividual Player WITH Super Pack* - $145<br />\nIndividual Player Only - $125<br />\nAwards Ticket Only - $40<br />\n<br />\nSponsorship Opportunities Available - Please reach out to admin@dunedinfl.com for more information.&nbsp\;<br />\n*Super Pack includes: 1 golf cart raffle entry\, 1 team mulligan\, 1 entry for the putting contest.
LOCATION:Dunedin Golf Course 1050 Palm Blvd\, Dunedin
UID:e.2521.7447
SEQUENCE:3
DTSTAMP:20260421T104533Z
URL:https://cm.dunedinfl.com/events/details/2023-golf-tournament-sold-out-7447
END:VEVENT

END:VCALENDAR
