BEGIN:VCALENDAR
VERSION:2.0
PRODID:-//ChamberMaster//Event Calendar 2.0//EN
METHOD:PUBLISH
X-PUBLISHED-TTL:P3D
REFRESH-INTERVAL:P3D
CALSCALE:GREGORIAN
BEGIN:VEVENT
DTSTART:20231024T130000Z
DTEND:20231024T140000Z
X-MICROSOFT-CDO-ALLDAYEVENT:FALSE
SUMMARY:FREE CLASS: Prioritizing Tasks
DESCRIPTION:Explore common challenges with prioritizing tasks.\n	Brainstorm ways to evaluate the urgency and importance of each task.  \n	Troubleshoot challenges when trying to focus on completing high-priority tasks first. Acquire skills in breaking down complex tasks into manageable achievable steps.      \n\nTO REGISTER\, please email: R3Coach@outlook.com. Please include your full name\, email and phone number. If you are a Dunedin Chamber of Commerce Member\, please include which business you are associated with.
X-ALT-DESC;FMTTYPE=text/html:<ul>\n	<li><span style="color:black"><span style="font-family:times new roman\,serif"><span style="font-size:12.0pt">Explore common challenges with prioritizing tasks.</span></span></span></li>\n	<li><span style="color:black"><span style="font-family:times new roman\,serif"><span style="font-size:12.0pt">Brainstorm ways to evaluate the urgency and importance of each task. &nbsp\;</span></span></span></li>\n	<li><span style="color:black"><span style="font-family:times new roman\,serif"><span style="font-size:12.0pt">Troubleshoot challenges when trying to focus on completing high-priority tasks first. Acquire skills in breaking down complex tasks into manageable achievable steps.&nbsp\; &nbsp\; &nbsp\;&nbsp\;</span></span></span></li>\n</ul>\n<span style="color:black"><span style="font-family:times new roman\,serif"><span style="font-size:12.0pt">TO REGISTER\, please email:&nbsp\;</span></span></span><a href="mailto:R3Coach@outlook.com" rel="noopener noreferrer" style="color: blue\; font-family: Calibri\, sans-serif\; font-size: 14.6667px\;" target="_blank" title="mailto:R3Coach@outlook.com">R3Coach@outlook.com</a>. Please include your full name\, email and phone number. If you are a Dunedin Chamber of Commerce Member\, please include which business you are associated with.&nbsp\;
LOCATION:The Hub 303 Main Street Dunedin\, FL 34698
UID:e.2521.7499
SEQUENCE:3
DTSTAMP:20260421T192919Z
URL:https://cm.dunedinfl.com/events/details/class-prioritizing-tasks-7499
END:VEVENT

END:VCALENDAR
