BEGIN:VCALENDAR
VERSION:2.0
PRODID:-//ChamberMaster//Event Calendar 2.0//EN
METHOD:PUBLISH
X-PUBLISHED-TTL:P3D
REFRESH-INTERVAL:P3D
CALSCALE:GREGORIAN
BEGIN:VEVENT
DTSTART:20260508T230000Z
DTEND:20260509T003000Z
X-MICROSOFT-CDO-ALLDAYEVENT:FALSE
SUMMARY:Clearwater Wine & Cheese Pairing Experience
DESCRIPTION:Join us in our award-winning tasting room for an exclusive wine and cheese pairing designed to delight your palate!\n\n\n\n\n\nDiscover the art of the perfect pour at Aspirations Winery! Join us in our award-winning tasting room for an exclusive wine and cheese pairing designed to delight your palate and elevate your local winery experience. Whether you are a dedicated connoisseur or just looking for a unique night out in Clearwater\, this guided tasting offers a deep dive into our diverse\, handcrafted selection.\n\nThe Tasting Experience\n\nDuring this curated evening\, you will enjoy carfully selected samples of our featured wines. Every pour is expertly complemented by a hand-selected artisanal cheese and premium meat pairing to highlight the unique flavor profiles of each bottle.\n\nWhy Attend?\n\n\n	Expert Guidance: Learn the "why" behind each pairing in a relaxed\, social atmosphere.\n	Local Flavor: Support a Clearwater staple known for its award-winning wines and craft beverages.\n	Perfect for Groups: A fantastic choice for date nights\, birthdays\, or meeting fellow wine lovers.\n	Special Offers and Discounts: Added discounts for the selected wines.\n\n\nThis Month's Featured Lineup:\n\nThe White Wine Board\n\nFeaturing our Gew rztraminer & VCR\n\nThe Pairing: Creamy Goat Cheese (Chevre)\, Nutty BellaVitano\, Fresh Cantaloupe\, and Savory Prosciutto.\n\n\n	Gew rztraminer: An aromatic powerhouse delivering delicate notes of rose petals\, lychee\, and tropical fruit. Its bright citrus flair provides a refreshing counterpoint to the herbaceous\, earthy notes of the Chevre and the rich\, fruity profile of the BellaVitano.\n	VCR (Viognier-Chardonnay-Riesling): This delightful trio highlights the floral apricot notes of Viognier\, the crisp minerality of Riesling\, and the tropical soul of Chardonnay. With a balanced fruitiness and a whisper of vanilla\, it is the ultimate companion to the sweetness of fresh cantaloupe.\n\n\nThe Red Wine Board\n\nFeaturing our Malbec & Swamp Juice\n\nThe Pairing: Fresh Mozzarella\, Farmer's Cheese\, Vine-Ripened Tomatoes\, and a Selection of Italian Deli Meats.\n\n\n	Malbec: Sleek\, focused\, and seductively deep red. Expect bold aromas of crushed blackberries and vanilla that lead into a surprisingly light\, elegant finish. When enjoyed with fresh\, creamy cheeses\, the deli meats act as a bridge\, pulling out the wine's earthy undertones and soft oak notes.\n	Swamp Juice: Don't let the name fool you this is our signature "New World" blend of Cabernet Sauvignon and Merlot. It's a fruit-forward\, easy-drinking red bursting with black cherry and wild berry flavors. Look for the sophisticated hints of dark chocolate and coffee on the finish\; the fresh cheese keeps the fruit vibrant\, while the savory meats highlight those rich\, cocoa-roasted notes.\n\n\nThe Dessert Board\n\nFeaturing "Grande Finale" & Peachy Weather\n\nThe Pairing: Warm Baked Ricotta and Seasonal Fresh Fruit.\n\n\n	Grande Finale (White Dessert Wine): A rich\, "ice-style" wine with perfectly balanced sweetness. Loaded with concentrated flavors of honeyed apricot and golden peach\, it's a powerhouse of flavor. The baked ricotta provides a savory\, velvety base that cuts through the wine's intensity\, letting the bright fruit notes truly sing.\n	Peachy Weather: This Moscato blend explodes with the scent of sun-ripened peaches. The natural sweetness of the fruit highlights the honeyed notes of the ricotta\, creating a sensation on the palate that feels remarkably like a slice of light\, airy cheesecake.\n\n\n \n\n?? Location: Aspirations Winery | Clearwater\, FL ??? Tickets: Limited availability to ensure an intimate experience.
X-ALT-DESC;FMTTYPE=text/html:<div>\n<div>\n<p>Join us in our award-winning tasting room for an exclusive wine and cheese pairing designed to delight your palate!</p>\n</div>\n</div>\n\n<div>\n<div>\n<p>Discover the art of the perfect pour at Aspirations Winery! Join us in our award-winning tasting room for an exclusive wine and cheese pairing designed to delight your palate and elevate your local winery experience. Whether you are a dedicated connoisseur or just looking for a unique night out in Clearwater\, this guided tasting offers a deep dive into our diverse\, handcrafted selection.</p>\n\n<p>The Tasting Experience</p>\n\n<p>During this curated evening\, you will enjoy carfully selected samples of our featured wines. Every pour is expertly complemented by a hand-selected artisanal cheese and premium meat pairing to highlight the unique flavor profiles of each bottle.</p>\n\n<p>Why Attend?</p>\n\n<ul>\n	<li>Expert Guidance:&nbsp\;Learn the &quot\;why&quot\; behind each pairing in a relaxed\, social atmosphere.</li>\n	<li>Local Flavor:&nbsp\;Support a Clearwater staple known for its award-winning wines and craft beverages.</li>\n	<li>Perfect for Groups:&nbsp\;A fantastic choice for date nights\, birthdays\, or meeting fellow wine lovers.</li>\n	<li>Special Offers and Discounts:&nbsp\;Added discounts for the selected wines.</li>\n</ul>\n\n<p>This Month&rsquo\;s Featured Lineup:</p>\n\n<h2>The White Wine Board</h2>\n\n<p><em>Featuring our Gew&uuml\;rztraminer &amp\; VCR</em></p>\n\n<p>The Pairing:&nbsp\;Creamy Goat Cheese (Chevre)\, Nutty BellaVitano\, Fresh Cantaloupe\, and Savory Prosciutto.</p>\n\n<ul>\n	<li>Gew&uuml\;rztraminer:&nbsp\;An aromatic powerhouse delivering delicate notes of rose petals\, lychee\, and tropical fruit. Its bright citrus flair provides a refreshing counterpoint to the herbaceous\, earthy notes of the Chevre and the rich\, fruity profile of the BellaVitano.</li>\n	<li>VCR (Viognier-Chardonnay-Riesling):&nbsp\;This delightful trio highlights the floral apricot notes of Viognier\, the crisp minerality of Riesling\, and the tropical soul of Chardonnay. With a balanced fruitiness and a whisper of vanilla\, it is the ultimate companion to the sweetness of fresh cantaloupe.</li>\n</ul>\n\n<h2>The Red Wine Board</h2>\n\n<p><em>Featuring our Malbec &amp\; Swamp Juice</em></p>\n\n<p>The Pairing:&nbsp\;Fresh Mozzarella\, Farmer&rsquo\;s Cheese\, Vine-Ripened Tomatoes\, and a Selection of Italian Deli Meats.</p>\n\n<ul>\n	<li>Malbec:&nbsp\;Sleek\, focused\, and seductively deep red. Expect bold aromas of crushed blackberries and vanilla that lead into a surprisingly light\, elegant finish. When enjoyed with fresh\, creamy cheeses\, the deli meats act as a bridge\, pulling out the wine&rsquo\;s earthy undertones and soft oak notes.</li>\n	<li>Swamp Juice:&nbsp\;Don&rsquo\;t let the name fool you&mdash\;this is our signature &quot\;New World&quot\; blend of Cabernet Sauvignon and Merlot. It&rsquo\;s a fruit-forward\, easy-drinking red bursting with black cherry and wild berry flavors. Look for the sophisticated hints of dark chocolate and coffee on the finish\; the fresh cheese keeps the fruit vibrant\, while the savory meats highlight those rich\, cocoa-roasted notes.</li>\n</ul>\n\n<h2>The Dessert Board</h2>\n\n<p><em>Featuring &quot\;Grande Finale&quot\; &amp\; Peachy Weather</em></p>\n\n<p>The Pairing:&nbsp\;Warm Baked Ricotta and Seasonal Fresh Fruit.</p>\n\n<ul>\n	<li>Grande Finale (White Dessert Wine):&nbsp\;A rich\, &quot\;ice-style&quot\; wine with perfectly balanced sweetness. Loaded with concentrated flavors of honeyed apricot and golden peach\, it&rsquo\;s a powerhouse of flavor. The baked ricotta provides a savory\, velvety base that cuts through the wine&rsquo\;s intensity\, letting the bright fruit notes truly sing.</li>\n	<li>Peachy Weather:&nbsp\;This Moscato blend explodes with the scent of sun-ripened peaches. The natural sweetness of the fruit highlights the honeyed notes of the ricotta\, creating a sensation on the palate that feels remarkably like a slice of light\, airy cheesecake.</li>\n</ul>\n\n<p>&nbsp\;</p>\n\n<p>??&nbsp\;Location:&nbsp\;Aspirations Winery | Clearwater\, FL ???&nbsp\;Tickets:&nbsp\;Limited availability to ensure an intimate experience.</p>\n</div>\n</div>\n
LOCATION:Aspirations Winery 22041 U.S. 19 Clearwater\, FL 33765
UID:e.2521.11245
SEQUENCE:3
DTSTAMP:20260423T170056Z
URL:https://cm.dunedinfl.com/events/details/clearwater-wine-cheese-pairing-experience-11245
END:VEVENT

END:VCALENDAR
