BEGIN:VCALENDAR
VERSION:2.0
PRODID:-//ChamberMaster//Event Calendar 2.0//EN
METHOD:PUBLISH
X-PUBLISHED-TTL:P3D
REFRESH-INTERVAL:P3D
CALSCALE:GREGORIAN
BEGIN:VEVENT
DTSTART;VALUE=DATE:20260423
DTEND;VALUE=DATE:20260424
TRANSP:TRANSPARENT
X-MICROSOFT-CDO-ALLDAYEVENT:TRUE
SUMMARY:Dining Out for Life Tampa Bay
DESCRIPTION:Mark your calendars for Dining Out For Life 2026!\n\nWe are excited to celebrate our 21st Annual Event!\n\nDining Out For Life supports vital services for people living with HIV/AIDS\, and every dollar raised stays right here in Hillsborough and Pinellas counties.\n\nThis year\, we are especially proud to share that EPIC was honored as Nonprofit of the Year\, a testament to our commitment to serving the Tampa Bay community. Partners throughout Tampa\, Gulfport\, Clearwater\, St. Petersburg\, and Dunedin will once again join together to support EPIC's mission.\n\nAt EPIC\, we improve our clients' lives through a broad continuum of care regardless of HIV status\, gender\, or sexual identity. Thanks to our Restaurant Partners\, you can dine out across Tampa Bay knowing every meal truly makes a difference.\n\nJoin us April 23rd as we unite to support EPIC and our community through Dining Out For Life 2026!
X-ALT-DESC;FMTTYPE=text/html:<div>\n<p><strong>Mark your calendars for Dining Out For Life 2026!</strong><br />\nWe are excited to celebrate our 21st Annual Event!</p>\n\n<p>Dining Out For Life supports vital services for people living with HIV/AIDS\, and every dollar raised stays right here in Hillsborough and Pinellas counties.</p>\n\n<p>This year\, we are especially proud to share that EPIC was honored as Nonprofit of the Year\, a testament to our commitment to serving the Tampa Bay community. Partners throughout Tampa\, Gulfport\, Clearwater\, St. Petersburg\, and Dunedin will once again join together to support EPIC&rsquo\;s mission.</p>\n\n<p>At EPIC\, we improve our clients&rsquo\; lives through a broad continuum of care&mdash\;regardless of HIV status\, gender\, or sexual identity. Thanks to our Restaurant Partners\, you can dine out across Tampa Bay knowing every meal truly makes a difference.</p>\n\n<p>Join us April 23rd as we unite to support EPIC and our community through Dining Out For Life 2026!</p>\n</div>\n
LOCATION:Go to: https://www.diningoutforlife.com/city/tampa-bay-dine-out-for-life/ to find participating restaurant locations near you!
UID:e.2521.11187
SEQUENCE:3
DTSTAMP:20260422T220856Z
URL:https://cm.dunedinfl.com/events/details/dining-out-for-life-tampa-bay-11187
END:VEVENT

END:VCALENDAR
