BEGIN:VCALENDAR
VERSION:2.0
PRODID:-//ChamberMaster//Event Calendar 2.0//EN
METHOD:PUBLISH
X-PUBLISHED-TTL:P3D
REFRESH-INTERVAL:P3D
CALSCALE:GREGORIAN
BEGIN:VEVENT
DTSTART:20260510T173000Z
DTEND:20260510T193000Z
X-MICROSOFT-CDO-ALLDAYEVENT:FALSE
SUMMARY:Jewelry Making Workshop
DESCRIPTION:Overview\n\n \n\n\n\n\nThis month's class is on Mother's Day\, so let's celebrate by creating some everlasting floral jewelry!\n\n\n\n\n\nThis month's class is on Mother's Day\, so let's celebrate by creating some everlasting floral jewelry! lIl be sharing a technique to use seed beads and other small beads to create bead flowers that can be wrapped onto a variety of forms to create unique iewelry.\n\nYou'll make a floral cuff bracelet and an adjustable "daisy" ring\, but lIl also bring along pendant forms too as an alternative option. As always\, a large choice of colors will be offered. All welcome\, but moms especially - family welcome too but a minimum age of 14 please. Just $32 pp\, which includes all supplies. If you wear readers\, please\n\nbring them.\n\nWhat You'll Create:\n\n\n	Complete Jewelry Set: Learn to craft a gorgeous bracelet\, and a matching pair of earrings.\n	Custom Designs: Choose from a wide variety of freshwater and glass pearls and colors to create a set that is uniquely yours.\n	Mix & Match: Design a perfectly coordinated set or create individual pieces to suit your style.\n\n\nEvent Details:\n\n\n	All-Inclusive: Your $32 ticket covers all materials and professional instruction.\n	Social Atmosphere: Perfect for a girls' night out\, a unique date night\, or meeting new friends in the Clearwater/Dunedin community.\n	Refreshments: Aspirations Winery offers an extensive menu of award-winning wines\, craft beer\, cocktails\, and food available for purchase.\n	Policy: Please note that no outside food or drink is permitted.
X-ALT-DESC;FMTTYPE=text/html:<div>Overview</div>\n\n<div>&nbsp\;</div>\n\n<div>\n<div>\n<div>\n<p>This month&#39\;s class is on Mother&#39\;s Day\, so let&#39\;s celebrate by creating some everlasting floral jewelry!</p>\n</div>\n</div>\n\n<div>\n<div>\n<p>This month&#39\;s class is on Mother&#39\;s Day\, so let&#39\;s celebrate by creating some everlasting floral jewelry! lIl be sharing a technique to use seed beads and other small beads to create bead flowers that can be wrapped onto a variety of forms to create unique iewelry.</p>\n\n<p>You&#39\;ll make a floral cuff bracelet and an adjustable &quot\;daisy&quot\; ring\, but lIl also bring along pendant forms too as an alternative option. As always\, a large choice of colors will be offered. All welcome\, but moms especially - family welcome too but a minimum age of 14 please. Just $32 pp\, which includes all supplies. If you wear readers\, please</p>\n\n<p>bring them.</p>\n\n<p>What You&rsquo\;ll Create:</p>\n\n<ul>\n	<li>Complete Jewelry Set:&nbsp\;Learn to craft a gorgeous bracelet\, and a matching pair of earrings.</li>\n	<li>Custom Designs:&nbsp\;Choose from a wide variety of freshwater and glass pearls and colors to create a set that is uniquely yours.</li>\n	<li>Mix &amp\; Match:&nbsp\;Design a perfectly coordinated set or create individual pieces to suit your style.</li>\n</ul>\n\n<p>Event Details:</p>\n\n<ul>\n	<li>All-Inclusive:&nbsp\;Your $32 ticket covers all materials and professional instruction.</li>\n	<li>Social Atmosphere:&nbsp\;Perfect for a girls&#39\; night out\, a unique date night\, or meeting new friends in the&nbsp\;Clearwater/Dunedin community.</li>\n	<li>Refreshments:&nbsp\;Aspirations Winery offers an extensive menu of award-winning wines\, craft beer\, cocktails\, and food available for purchase.</li>\n	<li>Policy:&nbsp\;Please note that no outside food or drink is permitted.</li>\n</ul>\n</div>\n</div>\n</div>\n
LOCATION:Aspirations Winery 22041 U.S. 19 Clearwater\, FL 33765
UID:e.2521.11248
SEQUENCE:3
DTSTAMP:20260423T170205Z
URL:https://cm.dunedinfl.com/events/details/jewelry-making-workshop-05-10-2026-11248
END:VEVENT

END:VCALENDAR
