BEGIN:VCALENDAR
VERSION:2.0
PRODID:-//ChamberMaster//Event Calendar 2.0//EN
METHOD:PUBLISH
X-PUBLISHED-TTL:P3D
REFRESH-INTERVAL:P3D
CALSCALE:GREGORIAN
BEGIN:VEVENT
DTSTART:20260412T173000Z
DTEND:20260412T190000Z
X-MICROSOFT-CDO-ALLDAYEVENT:FALSE
SUMMARY:Jewelry Making Workshop
DESCRIPTION:Join us at Aspirations Winery for a creative\, hands-on jewelry making class.\n\n\n\n\n\nJoin us at Aspirations Winery for a creative\, hands-on jewelry making class. This month\, you will learn the art of creating a beautiful ocean wave bracelet and pair of drop earrings with pearl accents\, sized just for your wrist or desired earring length. Whether you are a beginner or a seasoned crafter\, this workshop offers a relaxed environment to unwind and get creative.\n\nWhat You'll Create:\n\n\n	Complete Jewelry Set: Learn to craft a gorgeous bracelet\, and a matching pair of earrings.\n	Custom Designs: Choose from a wide variety of freshwater and glass pearls and colors to create a set that is uniquely yours.\n	Mix & Match: Design a perfectly coordinated set or create individual pieces to suit your style.\n\n\nEvent Details:\n\n\n	All-Inclusive: Your $32 ticket covers all materials and professional instruction.\n	Social Atmosphere: Perfect for a girls' night out\, a unique date night\, or meeting new friends in the Clearwater/Dunedin community.\n	Refreshments: Aspirations Winery offers an extensive menu of award-winning wines\, craft beer\, cocktails\, and food available for purchase.\n	Policy: Please note that no outside food or drink is permitted.
X-ALT-DESC;FMTTYPE=text/html:<div>\n<div>\n<p>Join us at Aspirations Winery for a creative\, hands-on jewelry making class.</p>\n</div>\n</div>\n\n<div>\n<div>\n<p>Join us at Aspirations Winery for a creative\, hands-on jewelry making class. This month\, you will learn the art of creating a beautiful ocean wave bracelet and pair of drop earrings with pearl accents\, sized just for your wrist or desired earring length. Whether you are a beginner or a seasoned crafter\, this workshop offers a relaxed environment to unwind and get creative.</p>\n\n<p>What You&rsquo\;ll Create:</p>\n\n<ul>\n	<li>Complete Jewelry Set:&nbsp\;Learn to craft a gorgeous bracelet\, and a matching pair of earrings.</li>\n	<li>Custom Designs:&nbsp\;Choose from a wide variety of freshwater and glass pearls and colors to create a set that is uniquely yours.</li>\n	<li>Mix &amp\; Match:&nbsp\;Design a perfectly coordinated set or create individual pieces to suit your style.</li>\n</ul>\n\n<p>Event Details:</p>\n\n<ul>\n	<li>All-Inclusive:&nbsp\;Your $32 ticket covers all materials and professional instruction.</li>\n	<li>Social Atmosphere:&nbsp\;Perfect for a girls&#39\; night out\, a unique date night\, or meeting new friends in the&nbsp\;Clearwater/Dunedin community.</li>\n	<li>Refreshments:&nbsp\;Aspirations Winery offers an extensive menu of award-winning wines\, craft beer\, cocktails\, and food available for purchase.</li>\n	<li>Policy:&nbsp\;Please note that no outside food or drink is permitted.</li>\n</ul>\n</div>\n</div>\n
LOCATION:Aspirations Winery 22041 US Highway 19 North Clearwater\, FL 33765
UID:e.2521.11172
SEQUENCE:3
DTSTAMP:20260423T205622Z
URL:https://cm.dunedinfl.com/events/details/jewelry-making-workshop-11172
END:VEVENT

END:VCALENDAR
