BEGIN:VCALENDAR
VERSION:2.0
PRODID:-//ChamberMaster//Event Calendar 2.0//EN
METHOD:PUBLISH
X-PUBLISHED-TTL:P3D
REFRESH-INTERVAL:P3D
CALSCALE:GREGORIAN
BEGIN:VEVENT
DTSTART:20260409T220000Z
DTEND:20260410T000000Z
X-MICROSOFT-CDO-ALLDAYEVENT:FALSE
SUMMARY:Led Light Stand Resin Class
DESCRIPTION:Join us! Create your own uniquely designed 7" LED light. You choose the design: A Coastal creation or Botanical beautiful. Invite friends\n\n\n\n\n\nLet's Light up your night & brighten your day!\n\nJoin us to create your very own uniquely designed 7" LED light.\n\nYou choose the design: A Coastal creation or Botanical beautiful\n\nAll supplies are provided. An array of colors will be on hand.\n\nOne-on-one guidance is provided along with helpful tips\n\nYou may take your light home with you. No overnight curing needed\n\nFee - $48 Per Person\n\nAdvanced reservations required\n\n12+ children may join\, with accompanying adult.\n\nNo refunds or transfer to another class. You may give your ticket to another person to attend on the date of the ticket/class.\n\nBrigitte Miner   Fun-Spirationist\n\nCreative Resin-ations\n\nJoin us on FACEBOOK: Creative Resin-ations
X-ALT-DESC;FMTTYPE=text/html:<div>\n<div>\n<p>Join us! Create your own uniquely designed 7&rdquo\; LED light. You choose the design: A Coastal creation or Botanical beautiful. Invite friends</p>\n</div>\n</div>\n\n<div>\n<div>\n<p>Let&#39\;s Light up your night &amp\; brighten your day!</p>\n\n<p>Join us to create your very own uniquely designed 7&rdquo\; LED light.</p>\n\n<p>You choose the design: A Coastal creation or Botanical beautiful</p>\n\n<p>All supplies are provided. An array of colors will be on hand.</p>\n\n<p>One-on-one guidance is provided along with helpful tips</p>\n\n<p>You may take your light home with you. No overnight curing needed</p>\n\n<p>Fee - $48 Per Person</p>\n\n<p>Advanced reservations required</p>\n\n<p>12+ children may join\, with accompanying adult.</p>\n\n<p>No refunds or transfer to another class. You may give your ticket to another person to attend on the date of the ticket/class.</p>\n\n<p>Brigitte Miner &ndash\; Fun-Spirationist</p>\n\n<p>Creative Resin-ations</p>\n\n<p>Join us on FACEBOOK: Creative Resin-ations</p>\n</div>\n</div>\n
LOCATION:Aspirations Winery 22041 US Highway 19 North Clearwater\, FL 33765
UID:e.2521.11170
SEQUENCE:3
DTSTAMP:20260424T191803Z
URL:https://cm.dunedinfl.com/events/details/led-light-stand-resin-class-04-09-2026-11170
END:VEVENT

END:VCALENDAR
