BEGIN:VCALENDAR
VERSION:2.0
PRODID:-//ChamberMaster//Event Calendar 2.0//EN
METHOD:PUBLISH
X-PUBLISHED-TTL:P3D
REFRESH-INTERVAL:P3D
CALSCALE:GREGORIAN
BEGIN:VEVENT
DTSTART:20260412T130000Z
DTEND:20260412T160000Z
X-MICROSOFT-CDO-ALLDAYEVENT:FALSE
SUMMARY:Miles fo Mimosa 5k - Aspirations
DESCRIPTION:Miles for Mimosas 5K - Aspirations is proud to have\n\nFlorida Giant Dog Rescue\n\nas the 2025 Charity Partner.\n\nWe Help Big Dogs Find Loving Homes.\n\n------------------------------------------------\n\nLooking for a great way to start your Sunday morning? Need something fun? Grab your friends and get an early start to your Sunday at the Miles for Mimosa's 5K at Aspirations Winery\n\nLots of great perks: Chip Timing\, Awesome Race Shirt\, Finisher Award Medal\, Age Group Awards\, and best of all\; a mimosa to enjoy while you kick up your feet on the deck after the race! We'll have juice and water for those under 21.\n\nWe even have a special Sip & Stroll division. It includes all the goodies of the 5K\, with no requirement to run:-)
X-ALT-DESC;FMTTYPE=text/html:<div>Miles for Mimosas 5K - Aspirations is proud to have<br />\nFlorida Giant Dog Rescue<br />\nas the 2025 Charity Partner.<br />\nWe Help Big Dogs Find Loving Homes.<br />\n------------------------------------------------<br />\nLooking for a great way to start your Sunday morning? Need something fun? Grab your friends and get an early start to your Sunday at the Miles for Mimosa&#39\;s 5K at Aspirations Winery</div>\n\n<div>Lots of great perks: Chip Timing\, Awesome Race Shirt\, Finisher Award Medal\, Age Group Awards\, and best of all\; a mimosa to enjoy while you kick up your feet on the deck after the race! We&#39\;ll have juice and water for those under 21.</div>\n\n<div>We even have a special Sip &amp\; Stroll division. It includes all the goodies of the 5K\, with no requirement to run:-)</div>\n
LOCATION:Aspirations Winery 22041 US Highway 19 North Clearwater\, FL 33765
UID:e.2521.11171
SEQUENCE:3
DTSTAMP:20260424T205614Z
URL:https://cm.dunedinfl.com/events/details/miles-fo-mimosa-5k-aspirations-11171
END:VEVENT

END:VCALENDAR
