BEGIN:VCALENDAR
VERSION:2.0
PRODID:-//ChamberMaster//Event Calendar 2.0//EN
METHOD:PUBLISH
X-PUBLISHED-TTL:P3D
REFRESH-INTERVAL:P3D
CALSCALE:GREGORIAN
BEGIN:VEVENT
DTSTART:20260510T150000Z
DTEND:20260510T170000Z
X-MICROSOFT-CDO-ALLDAYEVENT:FALSE
SUMMARY:Mother’s Day Brunch at Aspirations Winery
DESCRIPTION:Celebrate Mom with a delicious brunch buffet\, $4 mimosas\, and a beautiful winery setting in Clearwater. Reserve your table for May 10th!\n\n\n\n\n\nTreat Mom to a Day as Sweet as She Is!\n\nJoin us at Aspirations Winery on Sunday\, May 10th\, for a special Mother's Day Brunch. Skip the crowded restaurants and enjoy a relaxed\, social atmosphere filled with hand-crafted wines\, delicious food\, and great company.\n\nWhether you are celebrating with your mom\, your grandmother\, or the leading lady in your life\, our brunch buffet is designed to make her feel truly appreciated.\n\nThe Mother's Day Menu: Indulge in a full spread featuring a mix of savory classics and light\, fresh favorites:\n\n\n	Signature Scramble: Fluffy eggs with crispy bacon and sharp cheddar.\n	Country Comfort Bake: Homestyle gravy and sausage with eggs\, potatoes\, and melted cheddar.\n	Breakfast Favorites: Savory sausage links and herb-roasted potatoes.\n	Pastry Selection: A variety of fresh\, buttery morning pastries.\n	Savory Bites: Gourmet chicken salad sliders and an artisan charcuterie selection.\n	Fresh & Light: Chilled shrimp cocktail and a seasonal fresh fruit display.\n\n\nDrink Specials: It wouldn't be brunch without a toast! We are offering $4 Mimosas all afternoon\, along with our full menu of award-winning "clean" wines and local craft beers.\n\nTicket Information:\n\n\n	Single Ticket: $20 per person\n	"Better Together" Pair: $30 for two guests (Save $10!)\n	Note: Drinks are sold separately. $4 Mimosa special available 11:00 AM   2:00 PM.\n\n\nEvent Details: ?? Date: Sunday\, May 10th ? Time: 11:00 AM   2:00 PM ?? Location: Aspirations Winery\, 22041 US HWY 19N\, Clearwater\, FL\n\nSpace is limited and our holiday events often sell out. Reserve your tickets today to guarantee your table!
X-ALT-DESC;FMTTYPE=text/html:<div>\n<div>\n<p>Celebrate Mom with a delicious brunch buffet\, $4 mimosas\, and a beautiful winery setting in Clearwater. Reserve your table for May 10th!</p>\n</div>\n</div>\n\n<div>\n<div>\n<p>Treat Mom to a Day as Sweet as She Is!</p>\n\n<p>Join us at&nbsp\;Aspirations Winery&nbsp\;on Sunday\, May 10th\, for a special Mother&rsquo\;s Day Brunch. Skip the crowded restaurants and enjoy a relaxed\, social atmosphere filled with hand-crafted wines\, delicious food\, and great company.</p>\n\n<p>Whether you are celebrating with your mom\, your grandmother\, or the leading lady in your life\, our brunch buffet is designed to make her feel truly appreciated.</p>\n\n<p>The Mother&rsquo\;s Day Menu:&nbsp\;Indulge in a full spread featuring a mix of savory classics and light\, fresh favorites:</p>\n\n<ul>\n	<li>Signature Scramble:&nbsp\;Fluffy eggs with crispy bacon and sharp cheddar.</li>\n	<li>Country Comfort Bake:&nbsp\;Homestyle gravy and sausage with eggs\, potatoes\, and melted cheddar.</li>\n	<li>Breakfast Favorites:&nbsp\;Savory sausage links and herb-roasted potatoes.</li>\n	<li>Pastry Selection:&nbsp\;A variety of fresh\, buttery morning pastries.</li>\n	<li>Savory Bites:&nbsp\;Gourmet chicken salad sliders and an artisan charcuterie selection.</li>\n	<li>Fresh &amp\; Light:&nbsp\;Chilled shrimp cocktail and a seasonal fresh fruit display.</li>\n</ul>\n\n<p>Drink Specials:&nbsp\;It wouldn&rsquo\;t be brunch without a toast! We are offering&nbsp\;$4 Mimosas&nbsp\;all afternoon\, along with our full menu of award-winning &quot\;clean&quot\; wines and local craft beers.</p>\n\n<p>Ticket Information:</p>\n\n<ul>\n	<li>Single Ticket:&nbsp\;$20 per person</li>\n	<li>&quot\;Better Together&quot\; Pair:&nbsp\;$30 for two guests (Save $10!)</li>\n	<li><em>Note: Drinks are sold separately. $4 Mimosa special available 11:00 AM &ndash\; 2:00 PM.</em></li>\n</ul>\n\n<p>Event Details:&nbsp\;??&nbsp\;Date:&nbsp\;Sunday\, May 10th ?&nbsp\;Time:&nbsp\;11:00 AM &ndash\; 2:00 PM ??&nbsp\;Location:&nbsp\;Aspirations Winery\, 22041 US HWY 19N\, Clearwater\, FL</p>\n\n<p>Space is limited and our holiday events often sell out. Reserve your tickets today to guarantee your table!</p>\n</div>\n</div>\n
LOCATION:Aspirations Winery 22041 U.S. 19 Clearwater\, FL 33765
UID:e.2521.11246
SEQUENCE:3
DTSTAMP:20260423T170226Z
URL:https://cm.dunedinfl.com/events/details/mother-s-day-brunch-at-aspirations-winery-11246
END:VEVENT

END:VCALENDAR
